BEGIN:VCALENDAR
VERSION:2.0
PRODID:-//Science Circle - ECPv6.15.13//NONSGML v1.0//EN
CALSCALE:GREGORIAN
METHOD:PUBLISH
X-ORIGINAL-URL:https://sciencecircle.org
X-WR-CALDESC:Events for Science Circle
REFRESH-INTERVAL;VALUE=DURATION:PT1H
X-Robots-Tag:noindex
X-PUBLISHED-TTL:PT1H
BEGIN:VTIMEZONE
TZID:America/Los_Angeles
BEGIN:DAYLIGHT
TZOFFSETFROM:-0800
TZOFFSETTO:-0700
TZNAME:PDT
DTSTART:20220313T100000
END:DAYLIGHT
BEGIN:STANDARD
TZOFFSETFROM:-0700
TZOFFSETTO:-0800
TZNAME:PST
DTSTART:20221106T090000
END:STANDARD
BEGIN:DAYLIGHT
TZOFFSETFROM:-0800
TZOFFSETTO:-0700
TZNAME:PDT
DTSTART:20230312T100000
END:DAYLIGHT
BEGIN:STANDARD
TZOFFSETFROM:-0700
TZOFFSETTO:-0800
TZNAME:PST
DTSTART:20231105T090000
END:STANDARD
BEGIN:DAYLIGHT
TZOFFSETFROM:-0800
TZOFFSETTO:-0700
TZNAME:PDT
DTSTART:20240310T100000
END:DAYLIGHT
BEGIN:STANDARD
TZOFFSETFROM:-0700
TZOFFSETTO:-0800
TZNAME:PST
DTSTART:20241103T090000
END:STANDARD
END:VTIMEZONE
BEGIN:VEVENT
DTSTART;TZID=America/Los_Angeles:20231102T160000
DTEND;TZID=America/Los_Angeles:20231102T170000
DTSTAMP:20260420T052849
CREATED:20231029T092047Z
LAST-MODIFIED:20231029T092047Z
UID:12801-1698940800-1698944400@sciencecircle.org
SUMMARY:Mathematics Club
DESCRIPTION:
URL:https://sciencecircle.org/event/maths-club-20/
LOCATION:Maths Club
ATTACH;FMTTYPE=image/png:https://sciencecircle.org/wp-content/uploads/2023/08/Maths-club-Thursdays-4-pm.png
END:VEVENT
BEGIN:VEVENT
DTSTART;TZID=America/Los_Angeles:20231104T100000
DTEND;TZID=America/Los_Angeles:20231104T110000
DTSTAMP:20260420T052849
CREATED:20231028T162343Z
LAST-MODIFIED:20231028T162343Z
UID:12794-1699092000-1699095600@sciencecircle.org
SUMMARY:The New Climate We Live With
DESCRIPTION:The New Climate We Live With \nOver the past several decades we have had predictions of global warming and climate change due to human-caused greenhouse gas emissions. The underlying physics isn’t that difficult to understand. Greenhouse gases make the atmosphere more opaque to infrared radiation\, resulting in the Earth radiating energy to space from a higher altitude in the troposphere\, where it is colder. A colder temperature means less energy radiated to space\, so more energy is absorbed by the Earth than it sheds to space. \nNow\, observations are catching up with the predictions: an increase in summer heat waves\, more droughts or floods\, wildfires and smoke from wildfires\, thinning of west Antarctic ice sheets from warmer water beneath them\, and stronger hurricanes that develop intensity in just 24 hours. June\, July\, August\, and September all set records in global average temperature\, even without a full El Niño. Underground aquifers across the United States are being irreversibly depleted. At the same time\, The Economist reports an increasing global populist backlash against climate-change mitigation policies. In this talk\, I will present more specifics. \nA presentation by Dr. Keith Eric Grant
URL:https://sciencecircle.org/event/the-new-climate-we-live-with/
LOCATION:Auditorium
ATTACH;FMTTYPE=image/png:https://sciencecircle.org/wp-content/uploads/2023/10/Nov-4-10-am-pdt.png
END:VEVENT
BEGIN:VEVENT
DTSTART;TZID=America/Los_Angeles:20231104T210000
DTEND;TZID=America/Los_Angeles:20231104T220000
DTSTAMP:20260420T052849
CREATED:20231029T053631Z
LAST-MODIFIED:20231029T053631Z
UID:12798-1699131600-1699135200@sciencecircle.org
SUMMARY:Anti-Bullying Week
DESCRIPTION:Anti-Bullying Week\nIn observation of anti-bullying week we invite you to come and share your experiences on the subject\, were you bullied\, were you a bully yourself? \n  \n  \nIs this the first time you will attend a presentation with us?\nFollow this link first.
URL:https://sciencecircle.org/event/anti-bullying-week/
LOCATION:SC East Meeting Spot
ATTACH;FMTTYPE=image/jpeg:https://sciencecircle.org/wp-content/uploads/2023/10/Slide48.jpg
END:VEVENT
BEGIN:VEVENT
DTSTART;TZID=America/Los_Angeles:20231105T070000
DTEND;TZID=America/Los_Angeles:20231105T080000
DTSTAMP:20260420T052849
CREATED:20231029T093553Z
LAST-MODIFIED:20231029T093553Z
UID:12812-1699167600-1699171200@sciencecircle.org
SUMMARY:Classical Concert
DESCRIPTION:
URL:https://sciencecircle.org/event/cc-77/
LOCATION:The Lighthouse Café
ATTACH;FMTTYPE=image/png:https://sciencecircle.org/wp-content/uploads/2023/10/Concerts-PST.png
END:VEVENT
BEGIN:VEVENT
DTSTART;TZID=America/Los_Angeles:20231109T160000
DTEND;TZID=America/Los_Angeles:20231109T170000
DTSTAMP:20260420T052849
CREATED:20231029T092521Z
LAST-MODIFIED:20231029T092521Z
UID:12803-1699545600-1699549200@sciencecircle.org
SUMMARY:Mathematics Club
DESCRIPTION:
URL:https://sciencecircle.org/event/maths-club-21/
LOCATION:Maths Club
ATTACH;FMTTYPE=image/png:https://sciencecircle.org/wp-content/uploads/2023/10/Maths-club-4-PM-PST.png
END:VEVENT
BEGIN:VEVENT
DTSTART;TZID=America/Los_Angeles:20231111T100000
DTEND;TZID=America/Los_Angeles:20231111T110000
DTSTAMP:20260420T052849
CREATED:20231030T123839Z
LAST-MODIFIED:20231030T123839Z
UID:12831-1699696800-1699700400@sciencecircle.org
SUMMARY:BB: Intellectual Property
DESCRIPTION:The law recognizes rights in property created from the human mind. This is different from other types of property\, such as real property (land) and personal property (things). Property from the mind is called intellectual property. It’s not  necessarily intellectual\, though. More often it is a product of human creativity and imagination. Matt Burr (Beragon Betts) is an attorney in the U.S. with over 30 years of experience in the practice of this area of law. Please join us to learn what rights the law recognizes and how to protect and enforce your rights. \nDiscussion led by Matt Burr
URL:https://sciencecircle.org/event/bb-intellectual-property/
LOCATION:The Lighthouse Café
ATTACH;FMTTYPE=image/png:https://sciencecircle.org/wp-content/uploads/2023/10/Nov-11-10-am-pst.png
END:VEVENT
BEGIN:VEVENT
DTSTART;TZID=America/Los_Angeles:20231111T210000
DTEND;TZID=America/Los_Angeles:20231111T220000
DTSTAMP:20260420T052849
CREATED:20230225T064537Z
LAST-MODIFIED:20231031T033208Z
UID:12230-1699736400-1699740000@sciencecircle.org
SUMMARY:Celebrating Men
DESCRIPTION:Celebrating Men\nWe will be observing international men’s day by inviting you to join us and talk about men who inspire you and how they inspire you\, whether they be loved ones\, strangers\, celebrities\, or fictional! \n  \n  \nIs this the first time you will attend a presentation with us?\nFollow this link first.
URL:https://sciencecircle.org/event/celebrating-men/
LOCATION:SC East Meeting Spot
ATTACH;FMTTYPE=image/jpeg:https://sciencecircle.org/wp-content/uploads/2023/02/Slide49.jpg
END:VEVENT
BEGIN:VEVENT
DTSTART;TZID=America/Los_Angeles:20231112T070000
DTEND;TZID=America/Los_Angeles:20231112T080000
DTSTAMP:20260420T052849
CREATED:20231029T093735Z
LAST-MODIFIED:20231029T093735Z
UID:12815-1699772400-1699776000@sciencecircle.org
SUMMARY:Classical Concert
DESCRIPTION:
URL:https://sciencecircle.org/event/cc-78/
LOCATION:The Lighthouse Café
ATTACH;FMTTYPE=image/png:https://sciencecircle.org/wp-content/uploads/2023/10/Concerts-PST.png
END:VEVENT
BEGIN:VEVENT
DTSTART;TZID=America/Los_Angeles:20231116T160000
DTEND;TZID=America/Los_Angeles:20231116T170000
DTSTAMP:20260420T052849
CREATED:20231029T092747Z
LAST-MODIFIED:20231029T092747Z
UID:12806-1700150400-1700154000@sciencecircle.org
SUMMARY:Mathematics Club
DESCRIPTION:
URL:https://sciencecircle.org/event/maths-club-22/
LOCATION:Maths Club
ATTACH;FMTTYPE=image/png:https://sciencecircle.org/wp-content/uploads/2023/10/Maths-club-4-PM-PST.png
END:VEVENT
BEGIN:VEVENT
DTSTART;TZID=America/Los_Angeles:20231118T100000
DTEND;TZID=America/Los_Angeles:20231118T110000
DTSTAMP:20260420T052849
CREATED:20231113T083433Z
LAST-MODIFIED:20231113T083433Z
UID:12874-1700301600-1700305200@sciencecircle.org
SUMMARY:Human Migration – What it can tell us about our past and our future
DESCRIPTION:Human Migration – What it can tell us about our past and our future\nEvery migration tells a story. The migrations of people is the story of us\, individually and collectively. Whether it was by choice or by force\, migration is how we all have come to live where we life. It’s our global history and local present. In our rapidly changing world\, many millions of people will migrate within our lifetimes. Maybe some of them will be us. Major migrations have been and will continue to be driven by environmental and societal (political and economic) events that disrupt people’s lives. The geography of where we find ourselves to be provides both challenges and opportunities for the future we can make. \nJoin Delia Lake and Meryl McBride for an exploration of past migrations and some future prospects. We’ll set the context for this very timely discussion. Bring your own stories\, your thoughts\, your concerns to this timely\, important conversation.
URL:https://sciencecircle.org/event/human-migration/
LOCATION:Auditorium
ATTACH;FMTTYPE=image/png:https://sciencecircle.org/wp-content/uploads/2023/11/November-18-at-10-am.png
END:VEVENT
BEGIN:VEVENT
DTSTART;TZID=America/Los_Angeles:20231118T210000
DTEND;TZID=America/Los_Angeles:20231118T220000
DTSTAMP:20260420T052849
CREATED:20231112T065035Z
LAST-MODIFIED:20231112T070029Z
UID:12866-1700341200-1700344800@sciencecircle.org
SUMMARY:World Television Day
DESCRIPTION:World Television Day\n“Good evening… and welcome\, to television” -Bruce Gyngell\, launch of Television on Australia 1956. \nIn 1926 John Logie Baird transmitted a picture from one room to another. In 1927 he successfully sent a moving image along telephone wires from London to Glasgow\, and the following year he achieved the first trans-atlantic television broadcast. \nIn honor of television day we will discuss the unthinkable effect television has had on generations of humans\, the good\, and the bad. \nIs this the first time you will attend a presentation with us?\nFollow this link first.
URL:https://sciencecircle.org/event/world-television-day/
LOCATION:SC East Meeting Spot
ATTACH;FMTTYPE=image/jpeg:https://sciencecircle.org/wp-content/uploads/2023/11/Slide50.jpg
END:VEVENT
BEGIN:VEVENT
DTSTART;TZID=America/Los_Angeles:20231119T070000
DTEND;TZID=America/Los_Angeles:20231119T080000
DTSTAMP:20260420T052849
CREATED:20231029T093926Z
LAST-MODIFIED:20231029T093926Z
UID:12817-1700377200-1700380800@sciencecircle.org
SUMMARY:Classical Concert
DESCRIPTION:
URL:https://sciencecircle.org/event/cc-79/
LOCATION:The Lighthouse Café
ATTACH;FMTTYPE=image/png:https://sciencecircle.org/wp-content/uploads/2023/10/Concerts-PST.png
END:VEVENT
BEGIN:VEVENT
DTSTART;TZID=America/Los_Angeles:20231125T100000
DTEND;TZID=America/Los_Angeles:20231125T110000
DTSTAMP:20260420T052849
CREATED:20231113T083851Z
LAST-MODIFIED:20231113T083851Z
UID:12878-1700906400-1700910000@sciencecircle.org
SUMMARY:A Brief History of Genetic Modification in Agriculture
DESCRIPTION:A Brief History of Genetic Modification in Agriculture\nAt some point\, humans believed they could mold and manipulate their natural food supplies to suit their needs better. This domestication of plants changed the course of human history by helping enable brain development as well as structuring populations into larger cities. Many early civilizations thrived and some fell based on their agricultural output as most growth conditions heavily relied on the climate. Modification of plants generally relied on a crude form of artificial selection of picking each season’s best plants and replanting them. In modern times\, the scale of food production to meet population needs has also required a dramatic change to our breeding to select for large-scale output as well as even shipping. In the late 20th century\, a new method of plant modification via molecular biology dramatically changed how we can modify plants. And it came as no surprise that major yield gains have come about in those crops amenable to that modification. Although\, along with that technology came those resistant to its usage. Modern computational power has also changed how breeding works. But\, at the current pinnacle of plant biotech\, we now have the ability to directly manipulate the genetic code of most plants via site-specific DNA cutters like CRISPR.  \nThis presentation gives a historical overview of these changes to modern day.  \nPresentation by Stephen L. Gasior PhD
URL:https://sciencecircle.org/event/genetic-modification/
LOCATION:Auditorium
ATTACH;FMTTYPE=image/png:https://sciencecircle.org/wp-content/uploads/2023/11/Nov-25-10-am.png
END:VEVENT
BEGIN:VEVENT
DTSTART;TZID=America/Los_Angeles:20231125T210000
DTEND;TZID=America/Los_Angeles:20231125T220000
DTSTAMP:20260420T052849
CREATED:20231112T065021Z
LAST-MODIFIED:20231112T065021Z
UID:12864-1700946000-1700949600@sciencecircle.org
SUMMARY:Do not try this at home!
DESCRIPTION:Do not try this at home!\nJoin us for a multimedia livestream into Second Life of Chemistry demonstrations and explanations from Mike Shaw’s RL laboratory. \n  \nIs this the first time you will attend a presentation with us?\nFollow this link first.
URL:https://sciencecircle.org/event/do-not-try-this-at-home/
LOCATION:Auditorium
ATTACH;FMTTYPE=image/jpeg:https://sciencecircle.org/wp-content/uploads/2023/11/Slide51.jpg
END:VEVENT
BEGIN:VEVENT
DTSTART;TZID=America/Los_Angeles:20231126T070000
DTEND;TZID=America/Los_Angeles:20231126T080000
DTSTAMP:20260420T052849
CREATED:20231029T094040Z
LAST-MODIFIED:20231029T094040Z
UID:12819-1700982000-1700985600@sciencecircle.org
SUMMARY:Classical Concert
DESCRIPTION:
URL:https://sciencecircle.org/event/cc-80/
LOCATION:The Lighthouse Café
ATTACH;FMTTYPE=image/png:https://sciencecircle.org/wp-content/uploads/2023/10/Concerts-PST.png
END:VEVENT
BEGIN:VEVENT
DTSTART;TZID=America/Los_Angeles:20231130T160000
DTEND;TZID=America/Los_Angeles:20231130T170000
DTSTAMP:20260420T052849
CREATED:20231029T093144Z
LAST-MODIFIED:20231029T093144Z
UID:12810-1701360000-1701363600@sciencecircle.org
SUMMARY:Mathematics Club
DESCRIPTION:
URL:https://sciencecircle.org/event/maths-club-24/
LOCATION:Maths Club
ATTACH;FMTTYPE=image/png:https://sciencecircle.org/wp-content/uploads/2023/10/Maths-club-4-PM-PST.png
END:VEVENT
END:VCALENDAR