BEGIN:VCALENDAR
VERSION:2.0
PRODID:-//Science Circle - ECPv6.15.13//NONSGML v1.0//EN
CALSCALE:GREGORIAN
METHOD:PUBLISH
X-ORIGINAL-URL:https://sciencecircle.org
X-WR-CALDESC:Events for Science Circle
REFRESH-INTERVAL;VALUE=DURATION:PT1H
X-Robots-Tag:noindex
X-PUBLISHED-TTL:PT1H
BEGIN:VTIMEZONE
TZID:America/Los_Angeles
BEGIN:DAYLIGHT
TZOFFSETFROM:-0800
TZOFFSETTO:-0700
TZNAME:PDT
DTSTART:20240310T100000
END:DAYLIGHT
BEGIN:STANDARD
TZOFFSETFROM:-0700
TZOFFSETTO:-0800
TZNAME:PST
DTSTART:20241103T090000
END:STANDARD
BEGIN:DAYLIGHT
TZOFFSETFROM:-0800
TZOFFSETTO:-0700
TZNAME:PDT
DTSTART:20250309T100000
END:DAYLIGHT
BEGIN:STANDARD
TZOFFSETFROM:-0700
TZOFFSETTO:-0800
TZNAME:PST
DTSTART:20251102T090000
END:STANDARD
BEGIN:DAYLIGHT
TZOFFSETFROM:-0800
TZOFFSETTO:-0700
TZNAME:PDT
DTSTART:20260308T100000
END:DAYLIGHT
BEGIN:STANDARD
TZOFFSETFROM:-0700
TZOFFSETTO:-0800
TZNAME:PST
DTSTART:20261101T090000
END:STANDARD
END:VTIMEZONE
BEGIN:VEVENT
DTSTART;TZID=America/Los_Angeles:20251115T100000
DTEND;TZID=America/Los_Angeles:20251115T110000
DTSTAMP:20260420T160557
CREATED:20250904T174559Z
LAST-MODIFIED:20251023T082919Z
UID:14538-1763200800-1763204400@sciencecircle.org
SUMMARY:Borders and Breakdowns: Exploring Boundary Types and Dysfunctions
DESCRIPTION:“A Political Geographer’s Take on Territorial Boundaries and Their Disruptive Effects\, Focusing on Africa” \nSubmitted by Meryl McBride (aka Merrill Johnson\, Ph.D.\, Professor of Geography [Ret.]\, Colorado State University) \nBoundaries are everywhere and everyone is subject to them\, both to their benefit and to their detriment.  Boundaries divide people’s spaces at all levels\, from their personal-space envelopes to the corporate spaces that we call states.  The purpose of this presentation is to examine the meaning of the territorial boundary\, its types\, its benefits and detriments\, and how it is constructed\, with emphasis on the disruptive effects of Europe’s superimposed African boundaries.  \n \n  \n  \n 
URL:https://sciencecircle.org/event/exploring-boundary-types-and-dysfunctions/
LOCATION:Auditorium
ATTACH;FMTTYPE=image/png:https://sciencecircle.org/wp-content/uploads/2025/09/Nov-15-1.png
END:VEVENT
END:VCALENDAR