BEGIN:VCALENDAR
VERSION:2.0
PRODID:-//Science Circle - ECPv6.15.13//NONSGML v1.0//EN
CALSCALE:GREGORIAN
METHOD:PUBLISH
X-ORIGINAL-URL:https://sciencecircle.org
X-WR-CALDESC:Events for Science Circle
REFRESH-INTERVAL;VALUE=DURATION:PT1H
X-Robots-Tag:noindex
X-PUBLISHED-TTL:PT1H
BEGIN:VTIMEZONE
TZID:America/Los_Angeles
BEGIN:DAYLIGHT
TZOFFSETFROM:-0800
TZOFFSETTO:-0700
TZNAME:PDT
DTSTART:20240310T100000
END:DAYLIGHT
BEGIN:STANDARD
TZOFFSETFROM:-0700
TZOFFSETTO:-0800
TZNAME:PST
DTSTART:20241103T090000
END:STANDARD
BEGIN:DAYLIGHT
TZOFFSETFROM:-0800
TZOFFSETTO:-0700
TZNAME:PDT
DTSTART:20250309T100000
END:DAYLIGHT
BEGIN:STANDARD
TZOFFSETFROM:-0700
TZOFFSETTO:-0800
TZNAME:PST
DTSTART:20251102T090000
END:STANDARD
BEGIN:DAYLIGHT
TZOFFSETFROM:-0800
TZOFFSETTO:-0700
TZNAME:PDT
DTSTART:20260308T100000
END:DAYLIGHT
BEGIN:STANDARD
TZOFFSETFROM:-0700
TZOFFSETTO:-0800
TZNAME:PST
DTSTART:20261101T090000
END:STANDARD
END:VTIMEZONE
BEGIN:VEVENT
DTSTART;TZID=America/Los_Angeles:20250906T100000
DTEND;TZID=America/Los_Angeles:20250906T110000
DTSTAMP:20260425T191210
CREATED:20250810T175725Z
LAST-MODIFIED:20250810T181111Z
UID:14430-1757152800-1757156400@sciencecircle.org
SUMMARY:Town Hall Extravaganza!
DESCRIPTION:Launching The Science Circle’s New Season – Town Hall Extravaganza!\nJoin us on Saturday\, September 6\, 2025\, at 10 AM PDT in The Science Circle’s virtual auditorium for an electrifying Town Hall meeting to kick off our new season! The entire board—Chantal\, Jes\, Dian\, Phil\, Mike\, Stephen\, Natalie\, and Karthik—will be on hand to unveil our stellar line-up of presentations\, field trips\, and multidisciplinary projects. From knot theory to cosmic explorations\, this season promises to ignite your curiosity and connect you with a global community of scientists and enthusiasts. This is your chance to engage directly with the board\, ask burning questions\, and share bold ideas to shape The Science Circle’s future. Want to suggest a topic or propose a new initiative? We’re all ears! \nTogether\, let’s spark innovation and discovery in our virtual universe. \nDon’t miss this cosmic kickoff—join us to explore\, connect\, and inspire!  \n  \n\n							This poll is no longer accepting votes What excites you most for 2025?Cutting-edge scientific lecturesImmersive virtual field tripsCollaborative research projectsOther\, I will share my ideas at the Town Hall!Vote
URL:https://sciencecircle.org/event/town-hall-extravaganza/
LOCATION:Auditorium
ATTACH;FMTTYPE=image/png:https://sciencecircle.org/wp-content/uploads/2025/08/Sept-6.png
END:VEVENT
END:VCALENDAR