BEGIN:VCALENDAR
VERSION:2.0
PRODID:-//Science Circle - ECPv6.15.13//NONSGML v1.0//EN
CALSCALE:GREGORIAN
METHOD:PUBLISH
X-ORIGINAL-URL:https://sciencecircle.org
X-WR-CALDESC:Events for Science Circle
REFRESH-INTERVAL;VALUE=DURATION:PT1H
X-Robots-Tag:noindex
X-PUBLISHED-TTL:PT1H
BEGIN:VTIMEZONE
TZID:America/Los_Angeles
BEGIN:DAYLIGHT
TZOFFSETFROM:-0800
TZOFFSETTO:-0700
TZNAME:PDT
DTSTART:20240310T100000
END:DAYLIGHT
BEGIN:STANDARD
TZOFFSETFROM:-0700
TZOFFSETTO:-0800
TZNAME:PST
DTSTART:20241103T090000
END:STANDARD
BEGIN:DAYLIGHT
TZOFFSETFROM:-0800
TZOFFSETTO:-0700
TZNAME:PDT
DTSTART:20250309T100000
END:DAYLIGHT
BEGIN:STANDARD
TZOFFSETFROM:-0700
TZOFFSETTO:-0800
TZNAME:PST
DTSTART:20251102T090000
END:STANDARD
BEGIN:DAYLIGHT
TZOFFSETFROM:-0800
TZOFFSETTO:-0700
TZNAME:PDT
DTSTART:20260308T100000
END:DAYLIGHT
BEGIN:STANDARD
TZOFFSETFROM:-0700
TZOFFSETTO:-0800
TZNAME:PST
DTSTART:20261101T090000
END:STANDARD
END:VTIMEZONE
BEGIN:VEVENT
DTSTART;TZID=America/Los_Angeles:20250614T100000
DTEND;TZID=America/Los_Angeles:20250614T110000
DTSTAMP:20260420T062406
CREATED:20250525T085112Z
LAST-MODIFIED:20250602T094312Z
UID:14296-1749895200-1749898800@sciencecircle.org
SUMMARY:Field trip 2: Titanoboa
DESCRIPTION:An exciting journey back in time to explore the incredible world of Titanoboa cerrejonensis\, the largest snake to ever slither across the Earth! Today\, we’re diving into the hot\, swampy rainforests of what is now Colombia\, South America\, approximately 58–60 million years ago\, just after the extinction of the dinosaurs. Our virtual field trip\, hosted by The Science Circle\, features a meticulously crafted exhibit that brings this prehistoric giant to life\, based on the latest scientific research.\n \nWe are thrilled to have Dr. Linda Kelley\, known as Delia Lake in Second Life\, as our guide. Dr. Kelley has expertly recreated the steamy\, tropical ecology that Titanoboa called home\, immersing us in the environment where this massive predator thrived. Titanoboa\, a relative of modern boas\, grew up to 13 meters (nearly 43 feet) long and weighed over 1.25 tons. Its existence reveals fascinating insights about ancient climates\, requiring a mean annual temperature around 4°C warmer than today’s tropics to sustain its colossal size. This discovery challenges assumptions about tropical climate stability and underscores the profound impact of environmental conditions on the kinds of animals that dominate ecosystems.\n \nPrepare to encounter a scientifically accurate 3D animation of Titanoboa\, created by Dr. Gregory Bollella\, as it navigates its swampy habitat\, capturing prey like crocodiles in a world teeming with exotic plants and animals. This exhibit not only showcases the awe-inspiring scale of this monster snake but also invites us to reflect on how past climates shaped life on Earth—and what they might tell us about our planet’s future. Let’s step into this ancient rainforest and discover the secrets of Titanoboa with Dr. Linda Kelley.
URL:https://sciencecircle.org/event/field-trip-2-titanoboa/
LOCATION:Titanoboa exhibition
ATTACH;FMTTYPE=image/png:https://sciencecircle.org/wp-content/uploads/2025/05/June-14.png
END:VEVENT
END:VCALENDAR