BEGIN:VCALENDAR
VERSION:2.0
PRODID:-//Science Circle - ECPv6.15.13//NONSGML v1.0//EN
CALSCALE:GREGORIAN
METHOD:PUBLISH
X-WR-CALNAME:Science Circle
X-ORIGINAL-URL:https://sciencecircle.org
X-WR-CALDESC:Events for Science Circle
REFRESH-INTERVAL;VALUE=DURATION:PT1H
X-Robots-Tag:noindex
X-PUBLISHED-TTL:PT1H
BEGIN:VTIMEZONE
TZID:America/Los_Angeles
BEGIN:DAYLIGHT
TZOFFSETFROM:-0800
TZOFFSETTO:-0700
TZNAME:PDT
DTSTART:20220313T100000
END:DAYLIGHT
BEGIN:STANDARD
TZOFFSETFROM:-0700
TZOFFSETTO:-0800
TZNAME:PST
DTSTART:20221106T090000
END:STANDARD
BEGIN:DAYLIGHT
TZOFFSETFROM:-0800
TZOFFSETTO:-0700
TZNAME:PDT
DTSTART:20230312T100000
END:DAYLIGHT
BEGIN:STANDARD
TZOFFSETFROM:-0700
TZOFFSETTO:-0800
TZNAME:PST
DTSTART:20231105T090000
END:STANDARD
BEGIN:DAYLIGHT
TZOFFSETFROM:-0800
TZOFFSETTO:-0700
TZNAME:PDT
DTSTART:20240310T100000
END:DAYLIGHT
BEGIN:STANDARD
TZOFFSETFROM:-0700
TZOFFSETTO:-0800
TZNAME:PST
DTSTART:20241103T090000
END:STANDARD
END:VTIMEZONE
BEGIN:VEVENT
DTSTART;TZID=America/Los_Angeles:20231028T100000
DTEND;TZID=America/Los_Angeles:20231028T110000
DTSTAMP:20260421T003542
CREATED:20230930T151817Z
LAST-MODIFIED:20230930T151817Z
UID:12755-1698487200-1698490800@sciencecircle.org
SUMMARY:Hope on the Horizon
DESCRIPTION:Hope on the Horizon\n  \nTOPIC: As worldwide disasters and destruction may confound us in a sea of despair\, a sea-wise scan of the horizon spots some islands of hope ahead. Along with the epochal shifts of today\, we all also share common bonds that tie us to the unlimited possibilities in technologies\, economics\, education\, and shared abundance. Let’s look beyond today’s disorienting headlines into the solutions already at hand — and yet ahead in decades to come — as experts in media\, technology\, academia\, science\, business\, and society shed rays of hope. \n  \nBIO: Dr. Steven R. Van Hook has designed and taught communication and culture classes for universities in the USA and abroad for 25 years\, including one of the first hybrid virtual courses for UCSB in 2000. He is President of Educare Research\, a nonprofit program advancing international education and technologies. He’s been a newspaper columnist\, radio reporter\, TV news anchor\, and podcast host. He was a television producer and bureau chief in Moscow\, USSR from 1989-91; and for three years directed public education media programs in Ukraine through the United States Agency for International Development (USAID). He served as a trainer and officer for organizations including VISTA\, Head Start\, and the US Coast Guard. He has a PhD specializing in transcultural learning\, and is published in scholarly journals including UNESCO’s Prospects\, and by SAGE. He has presented on virtual world education to administrators and groups at UCLA\, UCSB\, VWBPE\, VWEC\, The Science Circle\, and elsewhere. Research website \nA presentation by Dr. Steven Van Hook
URL:https://sciencecircle.org/event/hope-on-the-horizon/
LOCATION:Auditorium
ATTACH;FMTTYPE=image/png:https://sciencecircle.org/wp-content/uploads/2023/09/Oct-28-10-am.png
END:VEVENT
BEGIN:VEVENT
DTSTART;TZID=America/Los_Angeles:20231028T210000
DTEND;TZID=America/Los_Angeles:20231028T220000
DTSTAMP:20260421T003542
CREATED:20231001T002104Z
LAST-MODIFIED:20231001T002104Z
UID:12765-1698526800-1698530400@sciencecircle.org
SUMMARY:United Nations day
DESCRIPTION:United Nations day\nToday’s discussion is about the United Nations\, what are your feelings regarding it\, do you think it’s a good/bad idea? How can it be improved? \n  \nIs this the first time you will attend a presentation with us?\nFollow this link first.
URL:https://sciencecircle.org/event/united-nations-day/
LOCATION:SC East Meeting Spot
ATTACH;FMTTYPE=image/jpeg:https://sciencecircle.org/wp-content/uploads/2023/09/Slide47.jpg
END:VEVENT
END:VCALENDAR