BEGIN:VCALENDAR
VERSION:2.0
PRODID:-//Science Circle - ECPv6.15.13//NONSGML v1.0//EN
CALSCALE:GREGORIAN
METHOD:PUBLISH
X-ORIGINAL-URL:https://sciencecircle.org
X-WR-CALDESC:Events for Science Circle
REFRESH-INTERVAL;VALUE=DURATION:PT1H
X-Robots-Tag:noindex
X-PUBLISHED-TTL:PT1H
BEGIN:VTIMEZONE
TZID:America/Los_Angeles
BEGIN:DAYLIGHT
TZOFFSETFROM:-0800
TZOFFSETTO:-0700
TZNAME:PDT
DTSTART:20220313T100000
END:DAYLIGHT
BEGIN:STANDARD
TZOFFSETFROM:-0700
TZOFFSETTO:-0800
TZNAME:PST
DTSTART:20221106T090000
END:STANDARD
BEGIN:DAYLIGHT
TZOFFSETFROM:-0800
TZOFFSETTO:-0700
TZNAME:PDT
DTSTART:20230312T100000
END:DAYLIGHT
BEGIN:STANDARD
TZOFFSETFROM:-0700
TZOFFSETTO:-0800
TZNAME:PST
DTSTART:20231105T090000
END:STANDARD
BEGIN:DAYLIGHT
TZOFFSETFROM:-0800
TZOFFSETTO:-0700
TZNAME:PDT
DTSTART:20240310T100000
END:DAYLIGHT
BEGIN:STANDARD
TZOFFSETFROM:-0700
TZOFFSETTO:-0800
TZNAME:PST
DTSTART:20241103T090000
END:STANDARD
END:VTIMEZONE
BEGIN:VEVENT
DTSTART;TZID=America/Los_Angeles:20230909T100000
DTEND;TZID=America/Los_Angeles:20230909T110000
DTSTAMP:20260425T164804
CREATED:20230906T050545Z
LAST-MODIFIED:20230906T050949Z
UID:12692-1694253600-1694257200@sciencecircle.org
SUMMARY:BB: Generative AI - Promise or Peril?
DESCRIPTION:Beragon’s Bistro: GENERATIVE AI – PROMISE OR PERIL?\nThe next step in the evolution of artificial intelligence technologies called Generative AI has certainly generated a lot of discussion.\n  \nIn this first Bistro of the 2023-2034 season\, let us together explore some of the following topics:\n—What can Generative AI software technologies do?\n—What technologies does it borrow from or improve upon that make it innovative?\n—What does Generative AI require to accomplish its work?\n—What types of outputs can Generative AI create?\n—How are these outputs currently used and what are some of their potentials?\n—How might it benefit certain type of businesses?\n—Why might there be so much hype about this technology? Have there been past examples where this happened?\n—What are some of the speculations about its potential social impacts? \nJoin us for what promises to be an exciting conversation! \nReferences:\nIBM. (April 2023). What is Generative AI?\nNVIDIA. What is Generative AI?
URL:https://sciencecircle.org/event/beragons-bistro-6/
LOCATION:The Lighthouse Café
ATTACH;FMTTYPE=image/png:https://sciencecircle.org/wp-content/uploads/2023/09/sept-9-10-am.png
END:VEVENT
BEGIN:VEVENT
DTSTART;TZID=America/Los_Angeles:20230909T210000
DTEND;TZID=America/Los_Angeles:20230909T220000
DTSTAMP:20260425T164804
CREATED:20230815T095640Z
LAST-MODIFIED:20230815T095640Z
UID:12650-1694293200-1694296800@sciencecircle.org
SUMMARY:World Suicide Prevention Day
DESCRIPTION:World Suicide Prevention Day\nIn observation of World Suicide Prevention Day on September 10th\, we invite you to discuss your experiences/stories where you\, or someone you love\, has been confronted with the tragedy of suicide. \nIs this the first time you will attend a presentation with us?\nFollow this link first.
URL:https://sciencecircle.org/event/world-suicide-prevention-day/
LOCATION:SC East Meeting Spot
ATTACH;FMTTYPE=image/jpeg:https://sciencecircle.org/wp-content/uploads/2023/08/Slide40.jpg
END:VEVENT
END:VCALENDAR