BEGIN:VCALENDAR
VERSION:2.0
PRODID:-//Science Circle - ECPv6.15.13//NONSGML v1.0//EN
CALSCALE:GREGORIAN
METHOD:PUBLISH
X-WR-CALNAME:Science Circle
X-ORIGINAL-URL:https://sciencecircle.org
X-WR-CALDESC:Events for Science Circle
REFRESH-INTERVAL;VALUE=DURATION:PT1H
X-Robots-Tag:noindex
X-PUBLISHED-TTL:PT1H
BEGIN:VTIMEZONE
TZID:America/Los_Angeles
BEGIN:DAYLIGHT
TZOFFSETFROM:-0800
TZOFFSETTO:-0700
TZNAME:PDT
DTSTART:20210314T100000
END:DAYLIGHT
BEGIN:STANDARD
TZOFFSETFROM:-0700
TZOFFSETTO:-0800
TZNAME:PST
DTSTART:20211107T090000
END:STANDARD
BEGIN:DAYLIGHT
TZOFFSETFROM:-0800
TZOFFSETTO:-0700
TZNAME:PDT
DTSTART:20220313T100000
END:DAYLIGHT
BEGIN:STANDARD
TZOFFSETFROM:-0700
TZOFFSETTO:-0800
TZNAME:PST
DTSTART:20221106T090000
END:STANDARD
BEGIN:DAYLIGHT
TZOFFSETFROM:-0800
TZOFFSETTO:-0700
TZNAME:PDT
DTSTART:20230312T100000
END:DAYLIGHT
BEGIN:STANDARD
TZOFFSETFROM:-0700
TZOFFSETTO:-0800
TZNAME:PST
DTSTART:20231105T090000
END:STANDARD
END:VTIMEZONE
BEGIN:VEVENT
DTSTART;TZID=America/Los_Angeles:20220514T100000
DTEND;TZID=America/Los_Angeles:20220514T110000
DTSTAMP:20260423T185832
CREATED:20220501T151828Z
LAST-MODIFIED:20220513T060547Z
UID:11356-1652522400-1652526000@sciencecircle.org
SUMMARY:Lessons for the Next Pandemic
DESCRIPTION:Although scientific progress enabled humanity to create a covid19 vaccine quickly\, millions nevertheless died and many more suffered and continue to suffer from the virus. What should we learn from the experience? Which societies managed the pandemic better or worse and why? Can we improve the political\, economic and social approaches to public health globally to do better with the next pandemic? \n14 Lessons for the Next Pandemic (New York Times) \nEarly lessons for the next pandemic (Brookings Institute) \n“You can lead a horse to water…” – the document Trump ignored \nWe just reached 1 million (official) COVID dead in the U.S. – Why?? \nA few people can influence millions \nA pandemic has social\, not must medical\, implications \nFear and resentment bring out the worst in people \nWhat comes next? May become epidemic\, like flu. That Spanish flu may still be around \nAnd by ABC News \nThere is no ‘profile’ for who gets it (something everyone tries to find in a pandemic) \nThe numbers are never accurate \nThe rich get richer \n  \n  \nA discussion hosted by Matt Burr at the Light house Cafe   \n  \n  \n  \n  \n  \n  \n  \n  \nIs this the first time you will attend a presentation with us?\nFollow this link first.
URL:https://sciencecircle.org/event/lessons-for-the-next-pandemic/
LOCATION:The Lighthouse Café
ATTACH;FMTTYPE=image/jpeg:https://sciencecircle.org/wp-content/uploads/2022/05/Ber-May-2022.jpg
END:VEVENT
BEGIN:VEVENT
DTSTART;TZID=America/Los_Angeles:20220514T210000
DTEND;TZID=America/Los_Angeles:20220514T220000
DTSTAMP:20260423T185832
CREATED:20220501T060557Z
LAST-MODIFIED:20220501T060557Z
UID:11345-1652562000-1652565600@sciencecircle.org
SUMMARY:Nuclear Energy
DESCRIPTION:Nuclear Energy\n“Nuclear energy\, in terms of an overall safety record\, is better than other energy.” -Bill Gates \n“If our nation wants to reduce global warming\, air pollution and energy instability\, we should invest only in the best energy options. Nuclear energy isn’t one of them.” -Mark Z. Jacobson \nNuclear Energy.\nGood? Bad? The answer to our problems\, or not at all?
URL:https://sciencecircle.org/event/nuclear-energy-2/
LOCATION:Patio in Paris
ATTACH;FMTTYPE=image/png:https://sciencecircle.org/wp-content/uploads/2022/04/East-Presentations2-1.png
END:VEVENT
END:VCALENDAR