BEGIN:VCALENDAR
VERSION:2.0
PRODID:-//Science Circle - ECPv6.15.13//NONSGML v1.0//EN
CALSCALE:GREGORIAN
METHOD:PUBLISH
X-ORIGINAL-URL:https://sciencecircle.org
X-WR-CALDESC:Events for Science Circle
REFRESH-INTERVAL;VALUE=DURATION:PT1H
X-Robots-Tag:noindex
X-PUBLISHED-TTL:PT1H
BEGIN:VTIMEZONE
TZID:America/Los_Angeles
BEGIN:DAYLIGHT
TZOFFSETFROM:-0800
TZOFFSETTO:-0700
TZNAME:PDT
DTSTART:20210314T100000
END:DAYLIGHT
BEGIN:STANDARD
TZOFFSETFROM:-0700
TZOFFSETTO:-0800
TZNAME:PST
DTSTART:20211107T090000
END:STANDARD
BEGIN:DAYLIGHT
TZOFFSETFROM:-0800
TZOFFSETTO:-0700
TZNAME:PDT
DTSTART:20220313T100000
END:DAYLIGHT
BEGIN:STANDARD
TZOFFSETFROM:-0700
TZOFFSETTO:-0800
TZNAME:PST
DTSTART:20221106T090000
END:STANDARD
BEGIN:DAYLIGHT
TZOFFSETFROM:-0800
TZOFFSETTO:-0700
TZNAME:PDT
DTSTART:20230312T100000
END:DAYLIGHT
BEGIN:STANDARD
TZOFFSETFROM:-0700
TZOFFSETTO:-0800
TZNAME:PST
DTSTART:20231105T090000
END:STANDARD
END:VTIMEZONE
BEGIN:VEVENT
DTSTART;TZID=America/Los_Angeles:20220430T100000
DTEND;TZID=America/Los_Angeles:20220430T110000
DTSTAMP:20260420T101723
CREATED:20220329T071550Z
LAST-MODIFIED:20220430T134406Z
UID:11237-1651312800-1651316400@sciencecircle.org
SUMMARY:What's Happening in the World of Synthetic Biology: A Report From A Global Conference
DESCRIPTION:What’s Happening in the World of Synthetic Biology: A Report From A Global Conference\n  \nThe speaker will be attending SynBioBeta Global Conference and will provide a consumer-friendly update on some of the highlights. Synthetic Biology is a toolkit of techniques of biological engineering to improve or design organisms for an optimized purpose. It looks to be a useful revolution for civilization similar to computers and high energy physics. This conference features many of the scientists\, company leaders\, and thought-leaders leading this revolution. Connections to what it will mean for products and sustainable practices will be the focus for the talk.  \n  \nPresentation by Dr. Stephen Gasior (Xootfly) \n \n  \n  \n\n\n\nDr. Stephen L. Gasior\n\n\nPrevious lectures on film\n\n\nPodcasts\n\n\n\n  \n  \n  \n  \n  \nIs this the first time you will attend a presentation with us?\nFollow this link first.
URL:https://sciencecircle.org/event/synthetic-biology/
LOCATION:Auditorium
ATTACH;FMTTYPE=image/png:https://sciencecircle.org/wp-content/uploads/2022/03/30-April-2022.png
END:VEVENT
BEGIN:VEVENT
DTSTART;TZID=America/Los_Angeles:20220430T210000
DTEND;TZID=America/Los_Angeles:20220430T220000
DTSTAMP:20260420T101723
CREATED:20220401T083632Z
LAST-MODIFIED:20220401T083632Z
UID:11269-1651352400-1651356000@sciencecircle.org
SUMMARY:Art
DESCRIPTION:Art\n“To be an artist is to believe in life.” -Henry Moore\n“Art is standing with one hand extended into the universe and one hand extended into the world\, and letting ourselves be a conduit for passing energy.” -Albert Einstein \n  \n  \nNon-members only need to register once. \nIs this the first time you will attend a presentation with us?\nFollow this link first.
URL:https://sciencecircle.org/event/art/
LOCATION:Fireside
ATTACH;FMTTYPE=image/png:https://sciencecircle.org/wp-content/uploads/2022/04/East-Presentations4.png
END:VEVENT
END:VCALENDAR