BEGIN:VCALENDAR
VERSION:2.0
PRODID:-//Science Circle - ECPv6.15.13//NONSGML v1.0//EN
CALSCALE:GREGORIAN
METHOD:PUBLISH
X-ORIGINAL-URL:https://sciencecircle.org
X-WR-CALDESC:Events for Science Circle
REFRESH-INTERVAL;VALUE=DURATION:PT1H
X-Robots-Tag:noindex
X-PUBLISHED-TTL:PT1H
BEGIN:VTIMEZONE
TZID:America/Los_Angeles
BEGIN:DAYLIGHT
TZOFFSETFROM:-0800
TZOFFSETTO:-0700
TZNAME:PDT
DTSTART:20200308T100000
END:DAYLIGHT
BEGIN:STANDARD
TZOFFSETFROM:-0700
TZOFFSETTO:-0800
TZNAME:PST
DTSTART:20201101T090000
END:STANDARD
BEGIN:DAYLIGHT
TZOFFSETFROM:-0800
TZOFFSETTO:-0700
TZNAME:PDT
DTSTART:20210314T100000
END:DAYLIGHT
BEGIN:STANDARD
TZOFFSETFROM:-0700
TZOFFSETTO:-0800
TZNAME:PST
DTSTART:20211107T090000
END:STANDARD
BEGIN:DAYLIGHT
TZOFFSETFROM:-0800
TZOFFSETTO:-0700
TZNAME:PDT
DTSTART:20220313T100000
END:DAYLIGHT
BEGIN:STANDARD
TZOFFSETFROM:-0700
TZOFFSETTO:-0800
TZNAME:PST
DTSTART:20221106T090000
END:STANDARD
END:VTIMEZONE
BEGIN:VEVENT
DTSTART;TZID=America/Los_Angeles:20211230T070000
DTEND;TZID=America/Los_Angeles:20211230T080000
DTSTAMP:20260421T170709
CREATED:20211219T080647Z
LAST-MODIFIED:20211223T150104Z
UID:10790-1640847600-1640851200@sciencecircle.org
SUMMARY:Follow Your Food
DESCRIPTION:Follow Your Food\nCorn\, rice\, and wheat constitute 51% of the calories humans consume. However\, many other heritage crops are important local staples or more highly identified with a culture. Modern agriculture is also starting to recognize the nutritional value or hardiness of many of these crops. This event recognizes these less mainstream crops. Stephen Xootfly will present on 3 upcoming heritage crops: tef\, cassava\, and sorghum and some of the crop engineering happening with them.   \nBut\, this is a participation event. So\, bring to the table either a snippet (picture) of some important crop from your heritage and/or a prepared dish and recipe.  
URL:https://sciencecircle.org/event/follow-your-food/
LOCATION:Fireside
ATTACH;FMTTYPE=image/png:https://sciencecircle.org/wp-content/uploads/2021/12/Follow-YOUR-food.png
END:VEVENT
END:VCALENDAR