BEGIN:VCALENDAR
VERSION:2.0
PRODID:-//Science Circle - ECPv6.15.13//NONSGML v1.0//EN
CALSCALE:GREGORIAN
METHOD:PUBLISH
X-ORIGINAL-URL:https://sciencecircle.org
X-WR-CALDESC:Events for Science Circle
REFRESH-INTERVAL;VALUE=DURATION:PT1H
X-Robots-Tag:noindex
X-PUBLISHED-TTL:PT1H
BEGIN:VTIMEZONE
TZID:America/Los_Angeles
BEGIN:DAYLIGHT
TZOFFSETFROM:-0800
TZOFFSETTO:-0700
TZNAME:PDT
DTSTART:20200308T100000
END:DAYLIGHT
BEGIN:STANDARD
TZOFFSETFROM:-0700
TZOFFSETTO:-0800
TZNAME:PST
DTSTART:20201101T090000
END:STANDARD
BEGIN:DAYLIGHT
TZOFFSETFROM:-0800
TZOFFSETTO:-0700
TZNAME:PDT
DTSTART:20210314T100000
END:DAYLIGHT
BEGIN:STANDARD
TZOFFSETFROM:-0700
TZOFFSETTO:-0800
TZNAME:PST
DTSTART:20211107T090000
END:STANDARD
BEGIN:DAYLIGHT
TZOFFSETFROM:-0800
TZOFFSETTO:-0700
TZNAME:PDT
DTSTART:20220313T100000
END:DAYLIGHT
BEGIN:STANDARD
TZOFFSETFROM:-0700
TZOFFSETTO:-0800
TZNAME:PST
DTSTART:20221106T090000
END:STANDARD
END:VTIMEZONE
BEGIN:VEVENT
DTSTART;TZID=America/Los_Angeles:20210508T100000
DTEND;TZID=America/Los_Angeles:20210508T110000
DTSTAMP:20260421T144819
CREATED:20210421T083018Z
LAST-MODIFIED:20210504T061724Z
UID:10035-1620468000-1620471600@sciencecircle.org
SUMMARY:Computer vision
DESCRIPTION:Computer vision\n  \nComputer vision is impressively prevalent in today’s world\, enabling a wide array of advancements like self-driving cars\, snapchat filters and automated medical image analysis. This lecture hopes to demystify the techniques used by machines to comprehend the visual world. The basic tasks of feature extraction to perform procedures like object detection or image classification\, and the use of powerful AI (Artificial Intelligence) tools like Convolutional Neural Networks (CNNs) will be introduced. The potential and existing applications of these tools in a vast array of fields\, and the increasing availability of computational resources and online material to learn about and utilize them will be discussed. \n  \n \n  \nA presentation by Karthik P.\, Graduate Student \n  \n  \nNon-members only need to register once. \nIs this the first time you will attend a presentation with us?\nFollow this link first. \n 
URL:https://sciencecircle.org/event/computer-vision/
LOCATION:Auditorium
ATTACH;FMTTYPE=image/png:https://sciencecircle.org/wp-content/uploads/2021/04/Social-Media-Karthik-500th.png
END:VEVENT
END:VCALENDAR