BEGIN:VCALENDAR
VERSION:2.0
PRODID:-//Science Circle - ECPv6.15.13//NONSGML v1.0//EN
CALSCALE:GREGORIAN
METHOD:PUBLISH
X-WR-CALNAME:Science Circle
X-ORIGINAL-URL:https://sciencecircle.org
X-WR-CALDESC:Events for Science Circle
REFRESH-INTERVAL;VALUE=DURATION:PT1H
X-Robots-Tag:noindex
X-PUBLISHED-TTL:PT1H
BEGIN:VTIMEZONE
TZID:America/Los_Angeles
BEGIN:DAYLIGHT
TZOFFSETFROM:-0800
TZOFFSETTO:-0700
TZNAME:PDT
DTSTART:20200308T100000
END:DAYLIGHT
BEGIN:STANDARD
TZOFFSETFROM:-0700
TZOFFSETTO:-0800
TZNAME:PST
DTSTART:20201101T090000
END:STANDARD
BEGIN:DAYLIGHT
TZOFFSETFROM:-0800
TZOFFSETTO:-0700
TZNAME:PDT
DTSTART:20210314T100000
END:DAYLIGHT
BEGIN:STANDARD
TZOFFSETFROM:-0700
TZOFFSETTO:-0800
TZNAME:PST
DTSTART:20211107T090000
END:STANDARD
BEGIN:DAYLIGHT
TZOFFSETFROM:-0800
TZOFFSETTO:-0700
TZNAME:PDT
DTSTART:20220313T100000
END:DAYLIGHT
BEGIN:STANDARD
TZOFFSETFROM:-0700
TZOFFSETTO:-0800
TZNAME:PST
DTSTART:20221106T090000
END:STANDARD
END:VTIMEZONE
BEGIN:VEVENT
DTSTART;TZID=America/Los_Angeles:20210327T100000
DTEND;TZID=America/Los_Angeles:20210327T110000
DTSTAMP:20260420T112507
CREATED:20210313T093127Z
LAST-MODIFIED:20210327T154209Z
UID:9891-1616839200-1616842800@sciencecircle.org
SUMMARY:Panel: Ministry for the Future
DESCRIPTION:The recent state-wide cold snap that left many Texans without electricity and water seems like a good time to consider Kim Stanley Robinson’s book The Ministry for the Future.  \n \n  \n  \nThis book is disaster novel wrapped loosely around a series of essays\, stories\, metaphors\, reports and commentaries about economics\, politics and social inequality. The story line follows two characters: Frank\, the sole survivor of a lethal heat wave\, and Mary\, the director of the Ministry for the Future\, an agency established by the U.N. Their relationship is complicated by an incident that results in Frank’s arrest. The book is not an easy read\, dealing as it does with a serious effort to alter human behavior enough to ward off the dire consequences of ignoring our own contributions to climate change. Robinson recognizes both the difficulty of making such changes and the necessity to do so and argues convincingly for some possible solutions. \n  \n  \nA not-too-long interview with the author Kim Stanley Robinson that touches on the main ideas of the book\, to help you prepare for the discussion. \n  \nGuests \n\n\n\nMary Anne Clark\n\n\nLinda Morris Kelley\n\n\nNatalie Foster\n\n\n \n\n\n\n \n  \n  \n\n\n\nMatthew Burr\n\n\nPrevious panels on film\n\n\n\n  \n  \n  \n  \n  \n  \n  \nNon-members only need to register once. \nIs this the first time you will attend a presentation with us?\nFollow this link first.
URL:https://sciencecircle.org/event/panel-ministry-for-the-future/
LOCATION:Auditorium
ATTACH;FMTTYPE=image/jpeg:https://sciencecircle.org/wp-content/uploads/2021/03/windmolens-e1615628282409.jpg
END:VEVENT
END:VCALENDAR