BEGIN:VCALENDAR
VERSION:2.0
PRODID:-//Science Circle - ECPv6.15.13//NONSGML v1.0//EN
CALSCALE:GREGORIAN
METHOD:PUBLISH
X-WR-CALNAME:Science Circle
X-ORIGINAL-URL:https://sciencecircle.org
X-WR-CALDESC:Events for Science Circle
REFRESH-INTERVAL;VALUE=DURATION:PT1H
X-Robots-Tag:noindex
X-PUBLISHED-TTL:PT1H
BEGIN:VTIMEZONE
TZID:America/Los_Angeles
BEGIN:DAYLIGHT
TZOFFSETFROM:-0800
TZOFFSETTO:-0700
TZNAME:PDT
DTSTART:20200308T100000
END:DAYLIGHT
BEGIN:STANDARD
TZOFFSETFROM:-0700
TZOFFSETTO:-0800
TZNAME:PST
DTSTART:20201101T090000
END:STANDARD
BEGIN:DAYLIGHT
TZOFFSETFROM:-0800
TZOFFSETTO:-0700
TZNAME:PDT
DTSTART:20210314T100000
END:DAYLIGHT
BEGIN:STANDARD
TZOFFSETFROM:-0700
TZOFFSETTO:-0800
TZNAME:PST
DTSTART:20211107T090000
END:STANDARD
BEGIN:DAYLIGHT
TZOFFSETFROM:-0800
TZOFFSETTO:-0700
TZNAME:PDT
DTSTART:20220313T100000
END:DAYLIGHT
BEGIN:STANDARD
TZOFFSETFROM:-0700
TZOFFSETTO:-0800
TZNAME:PST
DTSTART:20221106T090000
END:STANDARD
END:VTIMEZONE
BEGIN:VEVENT
DTSTART;TZID=America/Los_Angeles:20210215T090000
DTEND;TZID=America/Los_Angeles:20210215T100000
DTSTAMP:20260425T132120
CREATED:20210126T202029Z
LAST-MODIFIED:20210213T065443Z
UID:9688-1613379600-1613383200@sciencecircle.org
SUMMARY:Fireside Chat Preservation Crocodilian
DESCRIPTION:  \nStill having questions regarding “Rare Preservation of a Mother Crocodilian with Eggs“?\nOr are you fascinated by the work and excavations of a palaeontologist? \nCome to the Fireside Chat and ask your questions\, in a casual environment\, to Dr. Alex Hastings \n  \n\nQ&A with Dr. Alex Hastings \n  \n \n  \n\n\n\nDr. Alex Hastings\n\n\nReference work in the library\n\n\nPrevious lectures on film\n\n\n \n\n\n\n  \n  \n  \n  \n  \nNon-members can register for the free events through SC members. \nIs this the first time you will attend a presentation with us?\nFollow this link first. \n\n 
URL:https://sciencecircle.org/event/fc-preservation-crocodilian/
LOCATION:Fireside
ATTACH;FMTTYPE=image/png:https://sciencecircle.org/wp-content/uploads/2020/12/Fireside-chat.png
END:VEVENT
END:VCALENDAR