BEGIN:VCALENDAR
VERSION:2.0
PRODID:-//Science Circle - ECPv6.15.13//NONSGML v1.0//EN
CALSCALE:GREGORIAN
METHOD:PUBLISH
X-ORIGINAL-URL:https://sciencecircle.org
X-WR-CALDESC:Events for Science Circle
REFRESH-INTERVAL;VALUE=DURATION:PT1H
X-Robots-Tag:noindex
X-PUBLISHED-TTL:PT1H
BEGIN:VTIMEZONE
TZID:America/Los_Angeles
BEGIN:DAYLIGHT
TZOFFSETFROM:-0800
TZOFFSETTO:-0700
TZNAME:PDT
DTSTART:20200308T100000
END:DAYLIGHT
BEGIN:STANDARD
TZOFFSETFROM:-0700
TZOFFSETTO:-0800
TZNAME:PST
DTSTART:20201101T090000
END:STANDARD
BEGIN:DAYLIGHT
TZOFFSETFROM:-0800
TZOFFSETTO:-0700
TZNAME:PDT
DTSTART:20210314T100000
END:DAYLIGHT
BEGIN:STANDARD
TZOFFSETFROM:-0700
TZOFFSETTO:-0800
TZNAME:PST
DTSTART:20211107T090000
END:STANDARD
BEGIN:DAYLIGHT
TZOFFSETFROM:-0800
TZOFFSETTO:-0700
TZNAME:PDT
DTSTART:20220313T100000
END:DAYLIGHT
BEGIN:STANDARD
TZOFFSETFROM:-0700
TZOFFSETTO:-0800
TZNAME:PST
DTSTART:20221106T090000
END:STANDARD
END:VTIMEZONE
BEGIN:VEVENT
DTSTART;TZID=America/Los_Angeles:20210206T100000
DTEND;TZID=America/Los_Angeles:20210206T110000
DTSTAMP:20260420T180900
CREATED:20210129T180908Z
LAST-MODIFIED:20210205T191029Z
UID:9711-1612605600-1612609200@sciencecircle.org
SUMMARY:The Rest is Silence
DESCRIPTION:Image: Wikipedia \nSilent mutations are changes in the DNA of a protein-coding gene that do not result in a change in the encoded protein.  How can silent mutations occur?  How can you detect a silent mutation?  How frequent are silent mutations relative to mutations that produce an amino acid change? Are silent mutations really silent?  This presentation will address these and other questions about silent mutations. \nA presentation by Dr. Mary Anne Clark \nMax Chatnoir \nM. A. Clark\, Professor of Biology\, Texas Wesleyan University \n  \n  \n \n\n\n\nDr. Mary Anne Clark\n\n\nReference work in the library\n\n\nPrevious lectures on film\n\n\n\n  \n  \n  \nFireside Chat Wednesday\, February 10 at 4 PM PST \n  \nNon-members can register for the free event. \nIs this the first time you will attend a presentation with us?\nFollow this link first.
URL:https://sciencecircle.org/event/the-rest-is-silence/
LOCATION:Auditorium
ATTACH;FMTTYPE=image/png:https://sciencecircle.org/wp-content/uploads/2021/01/Different_Types_of_Mutations.png
END:VEVENT
END:VCALENDAR