BEGIN:VCALENDAR
VERSION:2.0
PRODID:-//Science Circle - ECPv6.15.13//NONSGML v1.0//EN
CALSCALE:GREGORIAN
METHOD:PUBLISH
X-ORIGINAL-URL:https://sciencecircle.org
X-WR-CALDESC:Events for Science Circle
REFRESH-INTERVAL;VALUE=DURATION:PT1H
X-Robots-Tag:noindex
X-PUBLISHED-TTL:PT1H
BEGIN:VTIMEZONE
TZID:America/Los_Angeles
BEGIN:DAYLIGHT
TZOFFSETFROM:-0800
TZOFFSETTO:-0700
TZNAME:PDT
DTSTART:20180311T100000
END:DAYLIGHT
BEGIN:STANDARD
TZOFFSETFROM:-0700
TZOFFSETTO:-0800
TZNAME:PST
DTSTART:20181104T090000
END:STANDARD
BEGIN:DAYLIGHT
TZOFFSETFROM:-0800
TZOFFSETTO:-0700
TZNAME:PDT
DTSTART:20190310T100000
END:DAYLIGHT
BEGIN:STANDARD
TZOFFSETFROM:-0700
TZOFFSETTO:-0800
TZNAME:PST
DTSTART:20191103T090000
END:STANDARD
BEGIN:DAYLIGHT
TZOFFSETFROM:-0800
TZOFFSETTO:-0700
TZNAME:PDT
DTSTART:20200308T100000
END:DAYLIGHT
BEGIN:STANDARD
TZOFFSETFROM:-0700
TZOFFSETTO:-0800
TZNAME:PST
DTSTART:20201101T090000
END:STANDARD
END:VTIMEZONE
BEGIN:VEVENT
DTSTART;TZID=America/Los_Angeles:20191005T060000
DTEND;TZID=America/Los_Angeles:20191005T070000
DTSTAMP:20260421T210106
CREATED:20190929T174533Z
LAST-MODIFIED:20190929T174533Z
UID:7492-1570255200-1570258800@sciencecircle.org
SUMMARY:"Our Place in the Universe!"
DESCRIPTION:“Our Place in the Universe!” \nA public presentation and continued educational journey. \nFacilitated by Phil Youngblood / SL: Vic Michalak \nLet us explore science together in Second Life! \n  \nLast time we started our journey investigating the nature and practice of science over the years. This time we will celebrate World Space Week (4-10 October 2019) by examining our place in the universe. \nIn 1957\, Kees Boeke wrote an essay entitled “Cosmic View: The Universe in 40 jumps”. In 1977\, Charles and Ray Eames produced an award-winning short documentary entitled “Powers of Ten” that investigated the world of the very small (quarks) to the very large (the observable universe). “Cosmic Voyage” in 1996\, presented at the Smithsonian’s National Air and Space Museum and in IMAX theaters worldwide\, completed a similar journey. \nIn Part II of our continuing sequence to “Explore Science in Second Life!” we will jump ahead another 20 years or so and create our own unique version of this concept using examples in Second Life and other sources. It is appropriate that we will be meeting in the Planetarium building on Science Circle island. \n———————- \nWe will continue to explore STE(A)M topics regularly by first visiting sites on Science Circle island and then exploring the various fields of science and applied science in Second Life. As we journey together\, we will develop a guide to science in Second Life and other open sources for the purpose of promoting dialogue and education across STEAM disciplines. My aim is to facilitate a journey to create a sustainable forum for learning the science behind the news\, our Science Circle presentations\, and our daily life encounters.  \nWe welcome novices\, experts\, and everyone in between! We will meet for one hour each session. You are welcome to attend any sessions you are able. Biweekly sessions will include presentations\, field trips\, ‘scavenger hunts’\, building things\, visits by experts\, global issues\, and finding answers to questions you have. \nInformation about past and upcoming sessions will be posted on the Science Circle website so you can ‘catch up’ on what you missed and know what is coming next. We are also planning an online discussion area where you can pose or answer questions. \n  \nFacilitated by Phil Youngblood / SL: Vic Michalak \nPrevious work from Phil in the Library \nPrevious presentations in the Film Collection \n \n\nPodcast – Guest: Phil Youngblood \n\n  \n  \nIs this the first time you will attend a presentation with us?\nFollow this link first.
URL:https://sciencecircle.org/event/our-place-in-the-universe/
LOCATION:Nikolai’s Planetarium
ATTACH;FMTTYPE=image/jpeg:https://sciencecircle.org/wp-content/uploads/2019/09/auditorium-as-it-should-be_002.jpg
END:VEVENT
BEGIN:VEVENT
DTSTART;TZID=America/Los_Angeles:20191005T100000
DTEND;TZID=America/Los_Angeles:20191005T110000
DTSTAMP:20260421T210106
CREATED:20190929T174843Z
LAST-MODIFIED:20190929T174843Z
UID:7496-1570269600-1570273200@sciencecircle.org
SUMMARY:Our Place in the Universe 10 AM PDT
DESCRIPTION:“Our Place in the Universe!” \nA public presentation and continued educational journey. \nFacilitated by Phil Youngblood / SL: Vic Michalak \nLet us explore science together in Second Life! \n  \nLast time we started our journey investigating the nature and practice of science over the years. This time we will celebrate World Space Week (4-10 October 2019) by examining our place in the universe. \nIn 1957\, Kees Boeke wrote an essay entitled “Cosmic View: The Universe in 40 jumps”. In 1977\, Charles and Ray Eames produced an award-winning short documentary entitled “Powers of Ten” that investigated the world of the very small (quarks) to the very large (the observable universe). “Cosmic Voyage” in 1996\, presented at the Smithsonian’s National Air and Space Museum and in IMAX theaters worldwide\, completed a similar journey. \nIn Part II of our continuing sequence to “Explore Science in Second Life!” we will jump ahead another 20 years or so and create our own unique version of this concept using examples in Second Life and other sources. It is appropriate that we will be meeting in the Planetarium building on Science Circle island. \n———————- \nWe will continue to explore STE(A)M topics regularly by first visiting sites on Science Circle island and then exploring the various fields of science and applied science in Second Life. As we journey together\, we will develop a guide to science in Second Life and other open sources for the purpose of promoting dialogue and education across STEAM disciplines. My aim is to facilitate a journey to create a sustainable forum for learning the science behind the news\, our Science Circle presentations\, and our daily life encounters.  \nWe welcome novices\, experts\, and everyone in between! We will meet for one hour each session. You are welcome to attend any sessions you are able. Biweekly sessions will include presentations\, field trips\, ‘scavenger hunts’\, building things\, visits by experts\, global issues\, and finding answers to questions you have. \nInformation about past and upcoming sessions will be posted on the Science Circle website so you can ‘catch up’ on what you missed and know what is coming next. We are also planning an online discussion area where you can pose or answer questions. \n  \nFacilitated by Phil Youngblood / SL: Vic Michalak \nPrevious work from Phil in the Library \nPrevious presentations in the Film Collection \n \n\nPodcast – Guest: Phil Youngblood \n\n  \n  \nIs this the first time you will attend a presentation with us?\nFollow this link first.
URL:https://sciencecircle.org/event/our-place-in-the-universe-10-am-pdt/
LOCATION:Nikolai’s Planetarium
ATTACH;FMTTYPE=image/jpeg:https://sciencecircle.org/wp-content/uploads/2019/09/auditorium-as-it-should-be_002.jpg
END:VEVENT
END:VCALENDAR