BEGIN:VCALENDAR
VERSION:2.0
PRODID:-//Science Circle - ECPv6.15.13//NONSGML v1.0//EN
CALSCALE:GREGORIAN
METHOD:PUBLISH
X-WR-CALNAME:Science Circle
X-ORIGINAL-URL:https://sciencecircle.org
X-WR-CALDESC:Events for Science Circle
REFRESH-INTERVAL;VALUE=DURATION:PT1H
X-Robots-Tag:noindex
X-PUBLISHED-TTL:PT1H
BEGIN:VTIMEZONE
TZID:America/Los_Angeles
BEGIN:DAYLIGHT
TZOFFSETFROM:-0800
TZOFFSETTO:-0700
TZNAME:PDT
DTSTART:20180311T100000
END:DAYLIGHT
BEGIN:STANDARD
TZOFFSETFROM:-0700
TZOFFSETTO:-0800
TZNAME:PST
DTSTART:20181104T090000
END:STANDARD
BEGIN:DAYLIGHT
TZOFFSETFROM:-0800
TZOFFSETTO:-0700
TZNAME:PDT
DTSTART:20190310T100000
END:DAYLIGHT
BEGIN:STANDARD
TZOFFSETFROM:-0700
TZOFFSETTO:-0800
TZNAME:PST
DTSTART:20191103T090000
END:STANDARD
BEGIN:DAYLIGHT
TZOFFSETFROM:-0800
TZOFFSETTO:-0700
TZNAME:PDT
DTSTART:20200308T100000
END:DAYLIGHT
BEGIN:STANDARD
TZOFFSETFROM:-0700
TZOFFSETTO:-0800
TZNAME:PST
DTSTART:20201101T090000
END:STANDARD
END:VTIMEZONE
BEGIN:VEVENT
DTSTART;TZID=America/Los_Angeles:20190921T100000
DTEND;TZID=America/Los_Angeles:20190921T110000
DTSTAMP:20260422T170648
CREATED:20190804T071318Z
LAST-MODIFIED:20190927T072702Z
UID:7232-1569060000-1569063600@sciencecircle.org
SUMMARY:The Face of Dementia
DESCRIPTION:This presentation has since taken place\, you can view the film recording here.  \n  \n  \nTHE FACE OF DEMENTIA\n \nby Robert A. Hendrix\, MD \nDEMENTIA affects approximately 50 million of the human population globally. This presentation will review: \nGeneral definition of DEMENTIA \ndistinctions: \nLewy body dementia vs Alzheimer’s disease dementia \nAlcohol-Related Dementia (ARD) \nSymptoms and diagnosis \nPhases of dementia \nEtiologies and associated conditions \n– head trauma \n– including metabolic disorders including: \ndiabetes \nliver dysfunction \n– sleep disorders \n– depression \n– cigarette smoking\, oxidative stress and inflammation \n– drug abuse \n– commonly used medications associated with dementia\, \n– nutrition factors \nTreatment & prognosis \nArtistic depiction by patients with dementia \nRisk factors and Prevention \n  \nRelated PDF Faces of Dementia \n \n  \n  \nPrevious presentations of Robert in the Film Collection \n  \n\n\n\nPodcast  Global Outbreak of Fatty Liver Disease\n \n\nPodcast  Doctor’s Tips for Healthier Mind and Body. \n\n\n  \n  \nIs this the first time you will attend a presentation with us?\nFollow this link first.
URL:https://sciencecircle.org/event/dementia/
LOCATION:Auditorium
ATTACH;FMTTYPE=image/jpeg:https://sciencecircle.org/wp-content/uploads/2019/08/Andrew-Hendrix-art.jpg
END:VEVENT
END:VCALENDAR