BEGIN:VCALENDAR
VERSION:2.0
PRODID:-//Science Circle - ECPv6.15.13//NONSGML v1.0//EN
CALSCALE:GREGORIAN
METHOD:PUBLISH
X-WR-CALNAME:Science Circle
X-ORIGINAL-URL:https://sciencecircle.org
X-WR-CALDESC:Events for Science Circle
REFRESH-INTERVAL;VALUE=DURATION:PT1H
X-Robots-Tag:noindex
X-PUBLISHED-TTL:PT1H
BEGIN:VTIMEZONE
TZID:America/Los_Angeles
BEGIN:DAYLIGHT
TZOFFSETFROM:-0800
TZOFFSETTO:-0700
TZNAME:PDT
DTSTART:20180311T100000
END:DAYLIGHT
BEGIN:STANDARD
TZOFFSETFROM:-0700
TZOFFSETTO:-0800
TZNAME:PST
DTSTART:20181104T090000
END:STANDARD
BEGIN:DAYLIGHT
TZOFFSETFROM:-0800
TZOFFSETTO:-0700
TZNAME:PDT
DTSTART:20190310T100000
END:DAYLIGHT
BEGIN:STANDARD
TZOFFSETFROM:-0700
TZOFFSETTO:-0800
TZNAME:PST
DTSTART:20191103T090000
END:STANDARD
BEGIN:DAYLIGHT
TZOFFSETFROM:-0800
TZOFFSETTO:-0700
TZNAME:PDT
DTSTART:20200308T100000
END:DAYLIGHT
BEGIN:STANDARD
TZOFFSETFROM:-0700
TZOFFSETTO:-0800
TZNAME:PST
DTSTART:20201101T090000
END:STANDARD
END:VTIMEZONE
BEGIN:VEVENT
DTSTART;TZID=America/Los_Angeles:20190919T100000
DTEND;TZID=America/Los_Angeles:20190919T110000
DTSTAMP:20260421T235840
CREATED:20190827T112357Z
LAST-MODIFIED:20190829T053525Z
UID:7357-1568887200-1568890800@sciencecircle.org
SUMMARY:Virtual Worlds Teaching Manual
DESCRIPTION:Greg Perrier presents and speaks about his “Virtual Wolds Teaching Manual” during the Virtual World MOOC 2019. \n  \n  \n  \nIntroduction \nExperience has shown that Virtual Worlds (VWs) can provide students a unique interactive educational experience that many students see as a fun way to learn. VWs go beyond just offering text to read or a video to watch. In VWs students interact with objects. For example\, a student can study the diagram of an ear online or in a textbook; but in a VW the student can walk through the ear\, a whole different experience. Studies have shown that students learn more from doing\, than from reading or listening to a lecture\, and VWs have the potential to provide this hands-on learning experience in a cost-effective manner. Furthermore\, teaching students to function in virtual environments provides them with skills that will be beneficial\, if not critical\, for success in the future job market. \nThe aim of this manual is to help educators incorporate VWs into their courses in ways that enhance student learning. It will guide one through getting started and show them how to use VWs to make classes more fun and interesting. It will help them avoid the common errors educators make in VWs and allow them to build on the successes of others. The advice presented here comes from work in the VW called Second Life (SL)\, but much of this advice applies to other VWs\, such as Open Simulator and Kitely\, as well as to virtual reality (VR). \n  \nFor teachers who intend to use Second Life in education\, there is the following PDF manual by Gregory Perrier\nEmeritus Faculty\, Biology\nNorthern Virginia Community College\n2018
URL:https://sciencecircle.org/event/vw-teaching-manual/
LOCATION:Virtual World MOOC Headquarters
END:VEVENT
END:VCALENDAR