BEGIN:VCALENDAR
VERSION:2.0
PRODID:-//Science Circle - ECPv6.15.13//NONSGML v1.0//EN
CALSCALE:GREGORIAN
METHOD:PUBLISH
X-ORIGINAL-URL:https://sciencecircle.org
X-WR-CALDESC:Events for Science Circle
REFRESH-INTERVAL;VALUE=DURATION:PT1H
X-Robots-Tag:noindex
X-PUBLISHED-TTL:PT1H
BEGIN:VTIMEZONE
TZID:America/Los_Angeles
BEGIN:DAYLIGHT
TZOFFSETFROM:-0800
TZOFFSETTO:-0700
TZNAME:PDT
DTSTART:20180311T100000
END:DAYLIGHT
BEGIN:STANDARD
TZOFFSETFROM:-0700
TZOFFSETTO:-0800
TZNAME:PST
DTSTART:20181104T090000
END:STANDARD
BEGIN:DAYLIGHT
TZOFFSETFROM:-0800
TZOFFSETTO:-0700
TZNAME:PDT
DTSTART:20190310T100000
END:DAYLIGHT
BEGIN:STANDARD
TZOFFSETFROM:-0700
TZOFFSETTO:-0800
TZNAME:PST
DTSTART:20191103T090000
END:STANDARD
BEGIN:DAYLIGHT
TZOFFSETFROM:-0800
TZOFFSETTO:-0700
TZNAME:PDT
DTSTART:20200308T100000
END:DAYLIGHT
BEGIN:STANDARD
TZOFFSETFROM:-0700
TZOFFSETTO:-0800
TZNAME:PST
DTSTART:20201101T090000
END:STANDARD
END:VTIMEZONE
BEGIN:VEVENT
DTSTART;TZID=America/Los_Angeles:20190907T100000
DTEND;TZID=America/Los_Angeles:20190907T110000
DTSTAMP:20260420T212645
CREATED:20190807T160922Z
LAST-MODIFIED:20190919T124002Z
UID:7282-1567850400-1567854000@sciencecircle.org
SUMMARY:Late Ordovician extinction
DESCRIPTION:This presentation has since taken place\, you can view the film recording here. \nWilliam Schmachtenberg \n \nAbstract: \nThere have been at least 5 mass extinctions in the geologic past and some say there was a sixth.  Multiple theories from volcanism\, plate tectonics\, biotic interactions\, and changes to ocean chemistry have been proposed for these extinction events. Local field studies in Virginia has shed light on the Late Ordovician extinction when 86% of animals in the ocean perished. These data will be given in the presentation. Studies like this one are important in answering the question will there be another mass extinction in the future? \n  \n  \n  \n  \nby Dr. William F. Schmachtenberg (Dae Miami SL)  \nPrevious work in the Film Collection \n  \nRelated Hypothesis article “The Cracks in Time” \n  \n  \nIs this the first time you will attend a presentation with us?\nFollow this link first. \n 
URL:https://sciencecircle.org/event/late-ordovician/
LOCATION:Auditorium
END:VEVENT
END:VCALENDAR