BEGIN:VCALENDAR
VERSION:2.0
PRODID:-//Science Circle - ECPv6.15.13//NONSGML v1.0//EN
CALSCALE:GREGORIAN
METHOD:PUBLISH
X-ORIGINAL-URL:https://sciencecircle.org
X-WR-CALDESC:Events for Science Circle
REFRESH-INTERVAL;VALUE=DURATION:PT1H
X-Robots-Tag:noindex
X-PUBLISHED-TTL:PT1H
BEGIN:VTIMEZONE
TZID:America/Los_Angeles
BEGIN:DAYLIGHT
TZOFFSETFROM:-0800
TZOFFSETTO:-0700
TZNAME:PDT
DTSTART:20180311T100000
END:DAYLIGHT
BEGIN:STANDARD
TZOFFSETFROM:-0700
TZOFFSETTO:-0800
TZNAME:PST
DTSTART:20181104T090000
END:STANDARD
BEGIN:DAYLIGHT
TZOFFSETFROM:-0800
TZOFFSETTO:-0700
TZNAME:PDT
DTSTART:20190310T100000
END:DAYLIGHT
BEGIN:STANDARD
TZOFFSETFROM:-0700
TZOFFSETTO:-0800
TZNAME:PST
DTSTART:20191103T090000
END:STANDARD
BEGIN:DAYLIGHT
TZOFFSETFROM:-0800
TZOFFSETTO:-0700
TZNAME:PDT
DTSTART:20200308T100000
END:DAYLIGHT
BEGIN:STANDARD
TZOFFSETFROM:-0700
TZOFFSETTO:-0800
TZNAME:PST
DTSTART:20201101T090000
END:STANDARD
END:VTIMEZONE
BEGIN:VEVENT
DTSTART;TZID=America/Los_Angeles:20190901T070000
DTEND;TZID=America/Los_Angeles:20190901T080000
DTSTAMP:20260420T230809
CREATED:20190527T082429Z
LAST-MODIFIED:20191105T120312Z
UID:7003-1567321200-1567324800@sciencecircle.org
SUMMARY:SC Benefit Concert
DESCRIPTION:The quarterly Sunday concerts by Earl\, Piano & Carle\, Cello. \nChopin:  Cello Sonata in G minor\, Op 65    28:51\nFranck:  Sonata for Violin (arr for Cello)      27:54\nGrieg:  Wounded Heart\, Op. 34-1 (From Elegiac Melodies)    2:29 \n  \nThank you for your interest and participation in our objectives. \nThe quarterly classical concerts on the first Sunday by Earl and Carle are a social addition to our regular program. At the same time\, we want to draw attention to the possibility of also providing financial support so that we can continue to implement our Mission Statement. \n  \nThere are three options for financial support from our organization\, namely; \n\nIn Second Life with Linden Dollars\, the donation box can be found at the landing point.\nWith your Linden Dollars we provide our region with all the conveniences and facilities for our events.\nVia PayPal\, by means of a one-off or recurring payment in your own currency.\nAnd by ABN Amro Bank\, the official bank account of The Science Circle.\nThe income on the last two bank accounts is used to keep our organization running; Second Life Region\, website\, server\, Microsoft license and recruiting staff.\n\n Donation page \nIn recent years we have developed a variety of activities and your participation has made this a huge success.\nWe hope that our program for the coming year will once again guarantee your attendance.
URL:https://sciencecircle.org/event/sc-benefit-concert/
LOCATION:Auditorium
ATTACH;FMTTYPE=image/jpeg:https://sciencecircle.org/wp-content/uploads/2019/05/HershbergerHamilton.jpg
END:VEVENT
END:VCALENDAR