BEGIN:VCALENDAR
VERSION:2.0
PRODID:-//Science Circle - ECPv6.15.13//NONSGML v1.0//EN
CALSCALE:GREGORIAN
METHOD:PUBLISH
X-ORIGINAL-URL:https://sciencecircle.org
X-WR-CALDESC:Events for Science Circle
REFRESH-INTERVAL;VALUE=DURATION:PT1H
X-Robots-Tag:noindex
X-PUBLISHED-TTL:PT1H
BEGIN:VTIMEZONE
TZID:America/Los_Angeles
BEGIN:DAYLIGHT
TZOFFSETFROM:-0800
TZOFFSETTO:-0700
TZNAME:PDT
DTSTART:20170312T100000
END:DAYLIGHT
BEGIN:STANDARD
TZOFFSETFROM:-0700
TZOFFSETTO:-0800
TZNAME:PST
DTSTART:20171105T090000
END:STANDARD
BEGIN:DAYLIGHT
TZOFFSETFROM:-0800
TZOFFSETTO:-0700
TZNAME:PDT
DTSTART:20180311T100000
END:DAYLIGHT
BEGIN:STANDARD
TZOFFSETFROM:-0700
TZOFFSETTO:-0800
TZNAME:PST
DTSTART:20181104T090000
END:STANDARD
BEGIN:DAYLIGHT
TZOFFSETFROM:-0800
TZOFFSETTO:-0700
TZNAME:PDT
DTSTART:20190310T100000
END:DAYLIGHT
BEGIN:STANDARD
TZOFFSETFROM:-0700
TZOFFSETTO:-0800
TZNAME:PST
DTSTART:20191103T090000
END:STANDARD
END:VTIMEZONE
BEGIN:VEVENT
DTSTART;TZID=America/Los_Angeles:20181027T100000
DTEND;TZID=America/Los_Angeles:20181027T110000
DTSTAMP:20260422T012737
CREATED:20181001T153455Z
LAST-MODIFIED:20181027T143435Z
UID:5735-1540634400-1540638000@sciencecircle.org
SUMMARY:"Science Fiction\, movies & series"
DESCRIPTION:Monthly panel discussion\nWith this week as subject “Science Fiction\, movies & series”\n \n  \nPanel participants: \n\nTagline\nMike Shaw\nSyzygy Asymptote\n\nModerator: Beragon Betts \n  \n1. Europa Report \n2. Ex-Machina \n3. “Extinction” – a very recent movie on Netflix \n4. “Gattaca” – not as recent a movie about genetic nature versus nurture \n5. “I\, Robot” – movie based on Isaac Asimov stories about robots. \n6. “The Matrix” – this is science fiction\, but with problems. Exciting movie though. \n7. 2001 A Space Odyssey \n8. Surrogates (2009 – with Bruce Willis)    \n  \nRegistration of future panel participants via Beragon Betts
URL:https://sciencecircle.org/event/science-fiction-movies-series/
LOCATION:Auditorium
ATTACH;FMTTYPE=image/jpeg:https://sciencecircle.org/wp-content/uploads/2018/09/Blue-panel-chairs-e1541319747137.jpg
END:VEVENT
END:VCALENDAR