BEGIN:VCALENDAR
VERSION:2.0
PRODID:-//Science Circle - ECPv6.15.13//NONSGML v1.0//EN
CALSCALE:GREGORIAN
METHOD:PUBLISH
X-WR-CALNAME:Science Circle
X-ORIGINAL-URL:https://sciencecircle.org
X-WR-CALDESC:Events for Science Circle
REFRESH-INTERVAL;VALUE=DURATION:PT1H
X-Robots-Tag:noindex
X-PUBLISHED-TTL:PT1H
BEGIN:VTIMEZONE
TZID:America/Los_Angeles
BEGIN:DAYLIGHT
TZOFFSETFROM:-0800
TZOFFSETTO:-0700
TZNAME:PDT
DTSTART:20170312T100000
END:DAYLIGHT
BEGIN:STANDARD
TZOFFSETFROM:-0700
TZOFFSETTO:-0800
TZNAME:PST
DTSTART:20171105T090000
END:STANDARD
BEGIN:DAYLIGHT
TZOFFSETFROM:-0800
TZOFFSETTO:-0700
TZNAME:PDT
DTSTART:20180311T100000
END:DAYLIGHT
BEGIN:STANDARD
TZOFFSETFROM:-0700
TZOFFSETTO:-0800
TZNAME:PST
DTSTART:20181104T090000
END:STANDARD
BEGIN:DAYLIGHT
TZOFFSETFROM:-0800
TZOFFSETTO:-0700
TZNAME:PDT
DTSTART:20190310T100000
END:DAYLIGHT
BEGIN:STANDARD
TZOFFSETFROM:-0700
TZOFFSETTO:-0800
TZNAME:PST
DTSTART:20191103T090000
END:STANDARD
END:VTIMEZONE
BEGIN:VEVENT
DTSTART;TZID=America/Los_Angeles:20180428T100000
DTEND;TZID=America/Los_Angeles:20180428T110000
DTSTAMP:20260420T051256
CREATED:20180311T105337Z
LAST-MODIFIED:20180423T053615Z
UID:5012-1524909600-1524913200@sciencecircle.org
SUMMARY:Catalysis in Wonderland: An SL presentation of classic transition-metal chemistry.
DESCRIPTION:  \nAbstract: \nOrganic chemistry tends to follow certain rules. Starting in the 1950’s\, we began to find ways that transition metals (e.g. chromium\, iron\, nickel\, rhodium\, gold and many others) could bend the rules of classic organic chemistry and facilitate chemical transformations which would otherwise be onerous. One example of the utility of transition metals as applied to organic chemistry is in catalysis\, i.e. the transformation of starting materials into products through an easy-to-traverse sequence of steps. Today\, catalysts mediate a wide range of reactions\, from improving the quality of air (e.g. catalytic converters) to the production of plastics\, medicines and other chemical transformations. In this talk we will cover the basics of “organometallic” catalysis reactions such as “oxidative addition”\, “insertion”\, and reductive elimination. We will use these steps to illustrate how a metal can catalyze a reaction without itself being changed\, through lecture and scripted objects. What we have learned about catalysts which dissolve has helped us to understand how metal surfaces mediate similar transformations. \nDr. Michael J. Shaw\, \nDistinguished Research Professor \n \n  \n— Mike J. Shaw \nPrevious work in the Library \nPrevious work in the Film Collection \n  \n  \n  \nIs this the first time you will attend a presentation with us?\nFollow this link first.
URL:https://sciencecircle.org/event/chemistry/
LOCATION:Auditorium
ATTACH;FMTTYPE=image/jpeg:https://sciencecircle.org/wp-content/uploads/2017/06/banner-chemistry.jpg
END:VEVENT
END:VCALENDAR